BEGIN:VCALENDAR
VERSION:2.0
PRODID:-//https://historia.uc.cl///NONSGML kigkonsult.se iCalcreator 2.10.15//
METHOD:PUBLISH
BEGIN:VEVENT
UID:20260422T003623UTC-5204l1HuUV@https://historia.uc.cl/
DTSTAMP:20260422T003623Z
DESCRIPTION:SEMINARIO DOCTORAL EN HISTORIA&nbsp\;\n5 Y 6 DE ENERO 2023\nSal
 a Seminario 4\, Edificio de Postgrado\n\n&nbsp\; https://historia.uc.cl/ag
 enda/calendario/evento/305-seminario-doctoral-en-historia
DTSTART:20230105T100000Z
DTEND:20230106T153000Z
LOCATION:Sala Seminario 4\, Edificio de Postgrado (Campus San Joaquín)
SUMMARY:Seminario Doctoral en Historia 
URL:https://historia.uc.cl/agenda/calendario/evento/305-seminario-doctoral-
 en-historia
END:VEVENT
END:VCALENDAR
