BEGIN:VCALENDAR
VERSION:2.0
PRODID:-//https://historia.uc.cl///NONSGML kigkonsult.se iCalcreator 2.10.15//
METHOD:PUBLISH
BEGIN:VEVENT
UID:20260421T200558UTC-8727AuF7vM@https://historia.uc.cl/
DTSTAMP:20260421T200558Z
DESCRIPTION:El aburrimiento no es un fracaso\nValerio RoccoCírculo de Bella
 s Artes de Madrid\nMartes 10 de enero\, 2023Sala de Usos Múltiples11:30 hr
 s.&nbsp\;\n&nbsp\;\n&nbsp\; https://historia.uc.cl/agenda/calendario/event
 o/309-el-aburrimiento-no-es-un-fracaso
DTSTART:20230110T113000Z
DTEND:20230110T130000Z
LOCATION:Sala de Usos Múltiples  (Sala de Usos Múltiples\, Facultad de Hist
 oria\, Geografía y Ciencia Política)
SUMMARY:El aburrimiento no es un fracaso
URL:https://historia.uc.cl/agenda/calendario/evento/309-el-aburrimiento-no-
 es-un-fracaso
END:VEVENT
END:VCALENDAR
