BEGIN:VCALENDAR
VERSION:2.0
PRODID:-//https://historia.uc.cl///NONSGML kigkonsult.se iCalcreator 2.10.15//
METHOD:PUBLISH
BEGIN:VEVENT
UID:20260419T201549UTC-0993920S3J@https://historia.uc.cl/
DTSTAMP:20260419T201549Z
DESCRIPTION:\nPROGRAMA\nJueves 2 de marzo\n13:00 hrs.&nbsp\;&nbsp\;&nbsp\;&
 nbsp\;&nbsp\;&nbsp\;&nbsp\;&nbsp\;&nbsp\;&nbsp\;&nbsp\;&nbsp\;&nbsp\;\nLug
 ar de encuentro: entrada del Campus San Joaquín.\n\nRecepción por Centros 
 de Estudiantes en la entrada del Campus.\nPresentación de directiva y prof
 esores/as de primer semestre. Entrega de regalos y colación.\n&nbsp\;Prese
 ntación de la representación estudiantil\, consejería académica\, consejer
 ía territorial y tutores/as pares.\nActividad de encuentro\n https://histo
 ria.uc.cl/agenda/calendario/evento/313-bienvenida-novatas-y-novatos-de-his
 toria-2023
DTSTART:20230302T130000Z
DTEND:20230302T173000Z
LOCATION:Campus San Joaquín  (Campus San Joaquín )
SUMMARY:Bienvenida Novatas y Novatos de Historia 2023
URL:https://historia.uc.cl/agenda/calendario/evento/313-bienvenida-novatas-
 y-novatos-de-historia-2023
END:VEVENT
END:VCALENDAR
