BEGIN:VCALENDAR
VERSION:2.0
PRODID:-//https://historia.uc.cl///NONSGML kigkonsult.se iCalcreator 2.10.15//
METHOD:PUBLISH
BEGIN:VEVENT
UID:20260423T093016UTC-9418nVsXNW@https://historia.uc.cl/
DTSTAMP:20260423T093016Z
DESCRIPTION:El Departamento de Historia Universal del Instituto de Historia
  UC\, les invita al Conversatorio&nbsp\;Una crisis europea y su proyección
  mundial: Rusia/Ucrania.\nEsperamos contar con su presencia en la sala Sem
 inario de nuestra Facultad&nbsp\;\nLunes 21 de marzo\, 202213:30&nbsp\;\n
 \n&nbsp\;\n&nbsp\; https://historia.uc.cl/agenda/calendario/evento/129-con
 versatorio-una-crisis-europea-y-su-proyeccion-mundial-rusia-ucrania
DTSTART:20220321T133000Z
DTEND:20220321T150000Z
LOCATION:Sala Seminario de la Facultad de Historia\, Geografía y Ciencia Po
 lítica ()
SUMMARY:Conversatorio Una crisis europea y su proyección mundial: Rusia/Ucr
 ania 
URL:https://historia.uc.cl/agenda/calendario/evento/129-conversatorio-una-c
 risis-europea-y-su-proyeccion-mundial-rusia-ucrania
END:VEVENT
END:VCALENDAR
