BEGIN:VCALENDAR
VERSION:2.0
PRODID:-//https://historia.uc.cl///NONSGML kigkonsult.se iCalcreator 2.10.15//
METHOD:PUBLISH
BEGIN:VEVENT
UID:20260423T174528UTC-5705BvgjXi@https://historia.uc.cl/
DTSTAMP:20260423T174528Z
DESCRIPTION:El viernes 22 de abril desde las 10:00 horas\, se realizarán la
 s primeras Jornadas de Postdoctorado en Humanidades de la Pontificia Unive
 rsidad Católica de Chile. Será un espacio de diálogo entre investigadores 
 e investigadoras postdoctorales de la Facultad de Letras\, el Instituto de
  Historia y el Instituto de Estética que se llevará a cabo en la Sala Marc
 ela Oyanedel de la Facultad de Letras (2do piso\, Edificio de Posgrados\, 
 Campus San Joaquín).\n\nParticiparán del Instituto de Historia: Andrea Arm
 ijo\, Patricio Arriagada\, Sylvia Dümmer\,&nbsp\;Sebastían Hernández\,&nbs
 p\;María Fernanda Lanfranco y José Miguel Vidal.&nbsp\;\n&nbsp\;\nOjalá po
 damos&nbsp\;acompañarles&nbsp\;en esta importante actividad. Accede al pro
 grama ACÁ&nbsp\;\n&nbsp\;\n https://historia.uc.cl/agenda/calendario/event
 o/179-jornadas-de-postdoctorado-en-humanidades
DTSTART:20220422T100000Z
DTEND:20220422T140000Z
LOCATION:Sala Marcela Oyanedel de la Facultad de Letras ()
SUMMARY: Jornadas de Postdoctorado en Humanidades 
URL:https://historia.uc.cl/agenda/calendario/evento/179-jornadas-de-postdoc
 torado-en-humanidades
END:VEVENT
END:VCALENDAR
