BEGIN:VCALENDAR
VERSION:2.0
PRODID:-//https://historia.uc.cl///NONSGML kigkonsult.se iCalcreator 2.10.15//
METHOD:PUBLISH
BEGIN:VEVENT
UID:20260422T194907UTC-1114pS8vaD@https://historia.uc.cl/
DTSTAMP:20260422T194907Z
DESCRIPTION:Hace 50 años en Santiago de Chile\, en abril de 1972\, se reuni
 eron cristianas y cristianos de todo el continente para reafirmar su compr
 omiso con una interpretación del catolicismo que suponía al socialismo com
 o un camino posible para conseguir el bienestar de la población latinoamer
 icana. Fundiendo cristianismo\, marxismo y activa incidencia política\, as
 í como reflexión pastoral\, contingencia política y análisis teológico\, e
 l Encuentro Latinoamericano de Cristianos por el Socialismo marcó un hito 
 no solo nacional\, sino global en las relaciones entre catolicismo y polít
 ica y\, en gran medida\, definió algunos de los contenidos que con mayor c
 laridad separarían a gran parte de la Jerarquía Católica oficial de las co
 rrientes asociadas al catolicismo liberacionista en América Latina.\nEl se
 minario internacional toma la ocasión de los 50 años del Encuentro Latinoa
 mericano de Cristianos por el Socialismo en Santiago para analizar con una
  mirada crítica algunos elementos de este encuentro entre catolicismo y re
 volución.\nLa actividad es organizada por los profesores Stephan Ruderer (
 Instituto de&nbsp\;Historia UC) y Marcos Fernández&nbsp\;(Departamento de 
 Historia UAH)\, y se realizará el martes 26 de abril\, desde las 10:00 has
 ta las 13:30 hrs\,&nbsp\;Vía Zoom.\nPara asistir\, inscríbete ACÁ\n&nbsp\;
 \nPROGRAMA&nbsp\;\n\n10:00- 10:15. Presentación Seminario.\n10:15-10:40. C
 laudia Touris (UBA-UNLu) : 'La Iglesia de los Pobres en la Argentina. Prec
 ursores y herederos'.\n10.40-11:05. Stephan Ruderer (PUC): “Cristianos por
  el Socialismo y MSTM. Una comparación de los católicos revolucionarios en
  Chile y Argentina y su relación con la violencia”\n11.05- 11.30. Michael 
 Ramminger (ITP\, Münster): “Cristianos por el Socialismo: un cambio histór
 ico en la forma de la iglesia y cristianidad en la sociedad chilena (y Amé
 rica Latina)”.\n11.30-11.55. Marcos Fernández L. (UAH): “Controversias pol
 ítico-teológicas en torno a Cristianos por el Socialismo”\n11.55- 12:30. M
 ario Amorós (Doctor en Historia por la Universidad de Barcelona): 'Relevan
 cia histórica de Cristianos por el Socialismo'.\n12:30-13:00. Debate\n13:0
 0. Lanzamiento libro “Policarpo. Catolicismo\, espacio público y oposición
  política. Chile\, 1981-1983”. Ediciones UAH\, Colección Historia.\n\nEl s
 eminario es parte de los proyectos Fondecyt Regular N°1200145 “Conflictos 
 católicos. La Iglesia católica ante las dictaduras militares en Chile y Ar
 gentina” (Stephan Ruderer)\, y N°1170613 'Catolicismo y política: vocabula
 rio conceptual\, opinión pública y acción política desde una perspectiva c
 omparada: 1970-1985” (Marcos Fernández)\n&nbsp\;\n&nbsp\;\n&nbsp\; https:/
 /historia.uc.cl/agenda/calendario/evento/133-seminario-catolicismo-y-revol
 ucion-a-50-anos-del-encuentro-latinoamericano-de-cristianos-por-el-sociali
 smo-santiago-1972
DTSTART:20220426T100000Z
DTEND:20220426T133000Z
LOCATION:Online ()
SUMMARY:Seminario 'Catolicismo y revolución: A 50 años del encuentro latino
 americano de Cristianos por el Socialismo\, Santiago\, 1972'
URL:https://historia.uc.cl/agenda/calendario/evento/133-seminario-catolicis
 mo-y-revolucion-a-50-anos-del-encuentro-latinoamericano-de-cristianos-por-
 el-socialismo-santiago-1972
END:VEVENT
END:VCALENDAR
