BEGIN:VCALENDAR
VERSION:2.0
PRODID:-//https://historia.uc.cl///NONSGML kigkonsult.se iCalcreator 2.10.15//
METHOD:PUBLISH
BEGIN:VEVENT
UID:20260422T194909UTC-13224gSenC@https://historia.uc.cl/
DTSTAMP:20260422T194909Z
DESCRIPTION:Nuestro académico Rafael Gaune asistirá como profesor visitante
  a la Universidad de Murcia\, España&nbsp\;dictará la charla 'La luz\, el 
 silencio y las palabras de la conversión religiosa americana en Roma\, sig
 los XVI- XVII\n27 de abril\n12:00 hrs. Chile\nVía Zoom&nbsp\;\n\n&nbsp\; h
 ttps://historia.uc.cl/agenda/calendario/evento/185-charla-del-profesor-raf
 ael-gaune-en-la-universidad-de-murcia-un-cristianismo-textual
DTSTART:20220427T120000Z
DTEND:20220427T140000Z
LOCATION:Online ()
SUMMARY:Charla del profesor Rafael Gaune en la Universidad de Murcia: 'Un c
 ristianismo textual'
URL:https://historia.uc.cl/agenda/calendario/evento/185-charla-del-profesor
 -rafael-gaune-en-la-universidad-de-murcia-un-cristianismo-textual
END:VEVENT
END:VCALENDAR
