BEGIN:VCALENDAR
VERSION:2.0
PRODID:-//https://historia.uc.cl///NONSGML kigkonsult.se iCalcreator 2.10.15//
METHOD:PUBLISH
BEGIN:VEVENT
UID:20260422T232609UTC-0715gclzzf@https://historia.uc.cl/
DTSTAMP:20260422T232609Z
DESCRIPTION:Defensa pública de la Tesis de Magister del estudiante Gabriel 
 Nachar Farías:\n'Aguas\, nación y propiedad. Economía política de las agua
 s en la república oligárquica (Chile\, 1850-1930)'\n&nbsp\;\nSala Usos Múl
 tiples\nJueves 28 de abril13:00 hrs.\n\n&nbsp\; https://historia.uc.cl/age
 nda/calendario/evento/181-defensa-de-magister-de-gabriel-nachar-farias
DTSTART:20220428T130000Z
DTEND:20220428T150000Z
LOCATION:Sala de Usos Múltiples  (Sala de Usos Múltiples\, Facultad de Hist
 oria\, Geografía y Ciencia Política)
SUMMARY:Defensa de Magíster de Gabriel Nachar Farías 
URL:https://historia.uc.cl/agenda/calendario/evento/181-defensa-de-magister
 -de-gabriel-nachar-farias
END:VEVENT
BEGIN:VEVENT
UID:20260422T232609UTC-07195UZjBb@https://historia.uc.cl/
DTSTAMP:20260422T232609Z
DESCRIPTION:Nuestro académico Rafael Gaune asistirá como profesor visitante
  a la Universidad de Murcia\, España.&nbsp\;Presentará su libro “Los ojos 
 y las manos del jesuita Diego de Rosales”.\n&nbsp\;28 de abril\n12:00 hrs.
  Chile\nVía Zoom&nbsp\;\n&nbsp\;\n https://historia.uc.cl/agenda/calendari
 o/evento/183-presentacion-del-libro-los-ojos-y-las-manos-del-jesuita-diego
 -de-rosales-en-la-universidad-de-murcia
DTSTART:20220428T120000Z
DTEND:20220428T140000Z
LOCATION:Online ()
SUMMARY:Presentación del libro 'Los ojos y las manos del jesuita Diego de R
 osales' en la Universidad de Murcia 
URL:https://historia.uc.cl/agenda/calendario/evento/183-presentacion-del-li
 bro-los-ojos-y-las-manos-del-jesuita-diego-de-rosales-en-la-universidad-de
 -murcia
END:VEVENT
END:VCALENDAR
