BEGIN:VCALENDAR
VERSION:2.0
PRODID:-//https://historia.uc.cl///NONSGML kigkonsult.se iCalcreator 2.10.15//
METHOD:PUBLISH
BEGIN:VEVENT
UID:20260422T232542UTC-5946pEE5VF@https://historia.uc.cl/
DTSTAMP:20260422T232542Z
DESCRIPTION:Residencias en Historia\n\nJosé Emilio Burucúa | Nicolás&nbsp\;
 Kwiatkowski\nUniversidad Nacional de San Martín\, Argentina\n\n'El conocim
 iento de los elefantes y las relaciones culturales entre Europa y la India
  (siglos IV a.C.-XVII d.C.)'\n\nLunes 9 de mayo\n14:00 horas\nSala de Usos
  Múltiples / Zoom\n\nInscripciones ACÁ&nbsp\;\n&nbsp\;\n https://historia.
 uc.cl/agenda/calendario/evento/187-residencias-en-historia-el-conocimiento
 -de-los-elefantes-y-las-relaciones-culturales-entre-europa-y-la-india-sigl
 os-iv-a-c-xvii-d-c
DTSTART:20220509T140000Z
DTEND:20220509T160000Z
LOCATION:Sala de Usos Múltiples  (Sala de Usos Múltiples\, Facultad de Hist
 oria\, Geografía y Ciencia Política)
SUMMARY:Residencias en Historia: 'El conocimiento de los elefantes y las re
 laciones culturales entre Europa y la India (siglos IV a.C.-XVII d.C.)'
URL:https://historia.uc.cl/agenda/calendario/evento/187-residencias-en-hist
 oria-el-conocimiento-de-los-elefantes-y-las-relaciones-culturales-entre-eu
 ropa-y-la-india-siglos-iv-a-c-xvii-d-c
END:VEVENT
END:VCALENDAR
