BEGIN:VCALENDAR
VERSION:2.0
PRODID:-//https://historia.uc.cl///NONSGML kigkonsult.se iCalcreator 2.10.15//
METHOD:PUBLISH
BEGIN:VEVENT
UID:20260422T232624UTC-0183JoPFKI@https://historia.uc.cl/
DTSTAMP:20260422T232624Z
DESCRIPTION:\nEncuentro online “Leonardo Sciascia y América Latina”\n&nbsp\
 ;\n&nbsp\;\n\n\nEl Instituto Italiano de Cultura Santiago y la Pontificia 
 Universidad Católica de Chile en colaboración con Treccani Università per 
 Stranieri di Perugia y Amici di Leonardo Sciascia acogen la primera Lezion
 e Sciasciana de América Latina\, ofreciendo un espacio de debate y discusi
 ón sobre distintos argumentos ligados al ámbito latinoamericano y a la rel
 ación de Leonardo Sciasciacon la cultura y las poblaciones transatlánticas
 .\n\n\n&nbsp\;\n\n\nMartes 10 de mayo I 12:00 – 13:30 horas I Zoom Meeting
 sPROGRAMAPresentaciónCristina Di Giorgio. Directora del Istituto Italiano 
 de Cultura de Santiago&nbsp\;Panelistas- Nicolás Cruz (Pontificia Universi
 dad Católica de Chile)Leer a Sciascia unos 60 años después &nbsp\;- Nibald
 o Mosciatti (Periodista)Sciascia y la sutileza en la política- Claudio Rol
 le Pontificia (Pontificia Universidad Católica de Chile)Del Sciascia de bo
 lsillo y el libro amigo a las andanzas\n\n\n&nbsp\;\nEl encuentro tendrá l
 ugar en modalidad Online (Zoom) y se realizará en español con traducción s
 imultánea al italiano.\n\n\n&nbsp\;\n\n\n\n\n::&nbsp\;INSCRIPCIONES&nbsp\;
 \n&nbsp\;\nDescarga el programa ACÁ&nbsp\;\n&nbsp\;\n\n&nbsp\;\n https://h
 istoria.uc.cl/agenda/calendario/evento/193-encuentro-online-leonardo-scias
 cia-y-america-latina
DTSTART:20220510T120000Z
DTEND:20220510T133000Z
LOCATION:Online ()
SUMMARY:Encuentro online “Leonardo Sciascia y América Latina”
URL:https://historia.uc.cl/agenda/calendario/evento/193-encuentro-online-le
 onardo-sciascia-y-america-latina
END:VEVENT
END:VCALENDAR
