BEGIN:VCALENDAR
VERSION:2.0
PRODID:-//https://historia.uc.cl///NONSGML kigkonsult.se iCalcreator 2.10.15//
METHOD:PUBLISH
BEGIN:VEVENT
UID:20260422T232619UTC-0932ODF305@https://historia.uc.cl/
DTSTAMP:20260422T232619Z
DESCRIPTION:&nbsp\;“Una investigación de largo plazo. El estudio del comerc
 io exterior argentino\, c. 1870-1929'\nCharla orientada a estudiantes de p
 osgrado en Historia\, en esta exposición presentaremos cómo se ha construi
 do una investigación de historia económica centrada en el estudio del come
 rcio exterior argentino entre 1870 y 1929. Explicaremos cuáles fueron las 
 principales motivaciones e ideas que nos acercaron al tema\, así como las 
 metodologías y fuentes empleadas. Además\, mostraremos cuáles han sido las
  principales líneas de trabajo desarrolladas.Expositora:&nbsp\;AGUSTINA RA
 YES Licenciada en Relaciones Internacionales y Licenciada en Historia por 
 la Universidad Nacional del Centro de la Provincia de Buenos Aires. Doctor
 a en Historia por la Universidad Torcuato Di Tella. Actualmente\, se desem
 peña como Investigadora Adjunta del Consejo Nacional de Investigaciones Ci
 entíficas y Técnicas y como Profesora Adjunta de la Universidad Nacional d
 e San Martín. Sus investigaciones se han centrado en el estudio de la hist
 oria de las relaciones económicas internacionales latinoamericanas en gene
 ral y argentinas en particular. Entre sus publicaciones\, destacan los art
 ículos “How Argentina became a super exporter of food and agricultural pro
 ducts during the First Globalization” en Cliometrica (en co-autoría con Vi
 cente Pinilla) y “The Other Side of Argentine Foreign Trade: Sources for t
 he Study of Imports” en Revista de Historia Económica-Journal of Iberian a
 nd Latin American Economic History.Abierta a académicos y estudiantes de p
 osgrado en Historia UC y otras universidades.\nMartes 24 de mayo\, 17:00 a
  19:00 hrs.\n Sala De Usos Múltiples\nProyecto Fondecyt Regular No. 120003
 1\n&nbsp\;\n https://historia.uc.cl/agenda/calendario/evento/197-una-inves
 tigacion-de-largo-plazo-el-estudio-del-comercio-exterior-argentino-c-1870-
 1929
DTSTART;VALUE=DATE:20220524
LOCATION:Sala de Usos Múltiples  (Sala de Usos Múltiples\, Facultad de Hist
 oria\, Geografía y Ciencia Política)
SUMMARY:“Una investigación de largo plazo. El estudio del comercio exterior
  argentino\, c. 1870-1929”
URL:https://historia.uc.cl/agenda/calendario/evento/197-una-investigacion-d
 e-largo-plazo-el-estudio-del-comercio-exterior-argentino-c-1870-1929
END:VEVENT
BEGIN:VEVENT
UID:20260422T232619UTC-094266j6TN@https://historia.uc.cl/
DTSTAMP:20260422T232619Z
DESCRIPTION:Profesor Pablo Camus hablará sobre su nuevo GEOlibro “Clima y S
 ociedad: El fenómeno El Niño y La Niña en la historia de Chile” en Geocien
 cia Chile. \nSe transmitirá por Twitch y el canal de Youtube de Geociencia
 Chile.\n Martes 24 de mayo \n18:00 hrs.\n\n&nbsp\; https://historia.uc.cl/
 agenda/calendario/evento/199-clima-y-sociedad-el-fenomeno-el-nino-y-la-nin
 a-en-la-historia-de-chile
DTSTART:20220524T180000Z
DTEND:20220524T200000Z
LOCATION:Online ()
SUMMARY:“Clima y Sociedad: El fenómeno El Niño y La Niña en la historia de 
 Chile”
URL:https://historia.uc.cl/agenda/calendario/evento/199-clima-y-sociedad-el
 -fenomeno-el-nino-y-la-nina-en-la-historia-de-chile
END:VEVENT
END:VCALENDAR
