BEGIN:VCALENDAR
VERSION:2.0
PRODID:-//https://historia.uc.cl///NONSGML kigkonsult.se iCalcreator 2.10.15//
METHOD:PUBLISH
BEGIN:VEVENT
UID:20260422T232558UTC-1485hC3Mmj@https://historia.uc.cl/
DTSTAMP:20260422T232558Z
DESCRIPTION:&nbsp\;\n&nbsp\;\nViernes 27 de mayo:\nFelipe Trujillo\n“Cultur
 as epistémicas en la guerra fría: ‘la revolución verde’ en la ingeniería c
 hilena”.\nSala de Usos múltiples\, Facultad de Historia\, Geografía y Cien
 cia Política (2° piso)\n10:00 hrs.&nbsp\; https://historia.uc.cl/agenda/ca
 lendario/evento/137-seminario-interno-de-estudiantes-de-posgrado-2022
DTSTART:20220527T100000Z
DTEND:20220527T113000Z
LOCATION:Sala Seminario de la Facultad de Historia\, Geografía y Ciencia Po
 lítica ()
SUMMARY:Seminario Interno de Estudiantes de Posgrado 2022
URL:https://historia.uc.cl/agenda/calendario/evento/137-seminario-interno-d
 e-estudiantes-de-posgrado-2022
END:VEVENT
BEGIN:VEVENT
UID:20260422T232558UTC-1489eoj7Ug@https://historia.uc.cl/
DTSTAMP:20260422T232558Z
DESCRIPTION:Seminario Internacional “El clero indígena y mestizo en América
  hispana colonial. Actores y contextos regionales”&nbsp\;\nOrganiza Proyec
 to PAPIIT IN400420\, Universidad Nacional Autónoma de México\, El clero in
 dígena y mestizo en la América española colonial:&nbsp\;formación\, políti
 cas y debates en el viejo y el nuevo mundo\, coordinado por el Dr. Rodolfo
  Aguirre (UNAM) y la Dra. Lucrecia Enríquez (Pontificia Universidad Católi
 ca de Chile).\nJueves 26 y viernes 27 de mayo de 2022\n&nbsp\;9:00 hrs. Mé
 xico10: 00 hrs. Chile\nSe transmitira por el canal de YOUTUBE de nuestra F
 acultad&nbsp\;\n&nbsp\;\n https://historia.uc.cl/agenda/calendario/evento/
 195-seminario-internacional-el-clero-indigena-y-mestizo-en-america-hispana
 -colonial-actores-y-contextos-regionales
DTSTART:20220526T100000Z
DTEND:20220527T120000Z
LOCATION:Online ()
SUMMARY:Seminario Internacional  “El clero indígena y mestizo en América hi
 spana colonial. Actores y contextos regionales”
URL:https://historia.uc.cl/agenda/calendario/evento/195-seminario-internaci
 onal-el-clero-indigena-y-mestizo-en-america-hispana-colonial-actores-y-con
 textos-regionales
END:VEVENT
END:VCALENDAR
