BEGIN:VCALENDAR
VERSION:2.0
PRODID:-//https://historia.uc.cl///NONSGML kigkonsult.se iCalcreator 2.10.15//
METHOD:PUBLISH
BEGIN:VEVENT
UID:20260423T232105UTC-2354w3d7Ds@https://historia.uc.cl/
DTSTAMP:20260423T232105Z
DESCRIPTION:Nuestro director\, profesor Claudio Rolle\, participará en el “
 Conversatorio Día del Patrimonio Cultural 2022”\, junto a la pianista Liza
  Chung y el violinista Gonzalo Beltrán. Organizado por el Intituto de Musi
 ca UC\nDomingo 29 de mayo \n12:00 hrs.\n Inscripciones acá https://bit.ly/
 3sZ2WRK\n&nbsp\;\n https://historia.uc.cl/agenda/calendario/evento/203-con
 versatorio-dia-del-patrimonio-cultural-2022
DTSTART:20220529T120000Z
DTEND:20220529T140000Z
LOCATION:Auditorio Centro  de Extensión Oriente  (Avda. Jaime Guzmán Errázu
 riz 3300\, Providencia\, Santiago de Chile.)
SUMMARY:Conversatorio Día del Patrimonio Cultural 2022 
URL:https://historia.uc.cl/agenda/calendario/evento/203-conversatorio-dia-d
 el-patrimonio-cultural-2022
END:VEVENT
END:VCALENDAR
