BEGIN:VCALENDAR
VERSION:2.0
PRODID:-//https://historia.uc.cl///NONSGML kigkonsult.se iCalcreator 2.10.15//
METHOD:PUBLISH
BEGIN:VEVENT
UID:20260422T181548UTC-9653KvIERT@https://historia.uc.cl/
DTSTAMP:20260422T181548Z
DESCRIPTION:Yessenia Puentes\, candidata a Dra. en Historia en el Posgrado 
 de nuestro Instituto\, presentará un avance de su proyecto el próximo 2 de
  junio titulado: 'Desindustrialización\, patrimonio local y crisis global 
 del carbón en el Chile&nbsp\;Neoliberal'.La sesión se desarrollará dentro 
 del Latin American Working Group del&nbsp\;Consortium for Science\, Techno
 logy\, and Medicine&nbsp\;y se transmitirá vía Zoom a las 12pm hora de Chi
 le. Ella participará junto a otros candidatos/as a doctor/a de&nbsp\;Harva
 rd University\,&nbsp\;El Colegio de México&nbsp\;y&nbsp\;Fundacao Oswaldo 
 Cruz.Para poder participar\, pueden inscribirse ACÁ&nbsp\;\n\n&nbsp\; http
 s://historia.uc.cl/agenda/calendario/evento/201-desindustrializacion-patri
 monio-local-y-crisis-global-del-carbon-en-el-chile-neoliberal
DTSTART;VALUE=DATE:20220602
LOCATION:Online ()
SUMMARY:'Desindustrialización\, patrimonio local y crisis global del carbón
  en el Chile Neoliberal'.
URL:https://historia.uc.cl/agenda/calendario/evento/201-desindustrializacio
 n-patrimonio-local-y-crisis-global-del-carbon-en-el-chile-neoliberal
END:VEVENT
END:VCALENDAR
