BEGIN:VCALENDAR
VERSION:2.0
PRODID:-//https://historia.uc.cl///NONSGML kigkonsult.se iCalcreator 2.10.15//
METHOD:PUBLISH
BEGIN:VEVENT
UID:20260422T151404UTC-01193woejb@https://historia.uc.cl/
DTSTAMP:20260422T151404Z
DESCRIPTION:Wikimedia Chile&nbsp\;junto al&nbsp\;Centro del Patrimonio&nbsp
 \;y el Instituto de Historia de la Pontificia Universidad Católica de Chil
 e\, invitan al lanzamiento del dossier&nbsp\;Herramientas Wiki para la edu
 cación patrimonial.\nJueves 30 de junio18:00 hrs.&nbsp\;\nEl evento será t
 ransmitido en vivo vía streaming a través del canal de&nbsp\;Youtube del C
 entro del Patrimonio Cultural UC.&nbsp\;\nParticipan:&nbsp\;Umbero Bonomo\
 , Director del Centro del Patrimonio UC\,&nbsp\;Daniela Serra\, Académica 
 del Instituto de Historia UC\,&nbsp\;Tania Ballesteros\, Investigadora pos
 tdoctoral en la Universidad de Valladolid y&nbsp\;Rocío Aravena\, Encargad
 a de Educación y Alfabetización Digital de Wikimedia Chile.&nbsp\;\nPara p
 articipar\, inscríbete en el&nbsp\;&nbsp\;formulario&nbsp\;AQUÍ\n\n&nbsp\;
  https://historia.uc.cl/agenda/calendario/evento/205-lanzamiento-del-dossi
 er-herramientas-wiki-para-la-educacion-patrimonial
DTSTART:20220630T180000Z
DTEND:20220630T200000Z
LOCATION:Salón Sergio Larraín del Centro del Patrimonio de la Universidad C
 atólica\, Campus Lo Contador (El Comendador 1916\, Providencia)
SUMMARY:Lanzamiento del dossier Herramientas Wiki para la educación patrimo
 nial
URL:https://historia.uc.cl/agenda/calendario/evento/205-lanzamiento-del-dos
 sier-herramientas-wiki-para-la-educacion-patrimonial
END:VEVENT
END:VCALENDAR
