BEGIN:VCALENDAR
VERSION:2.0
PRODID:-//https://historia.uc.cl///NONSGML kigkonsult.se iCalcreator 2.10.15//
METHOD:PUBLISH
BEGIN:VEVENT
UID:20260422T234732UTC-6102em73iI@https://historia.uc.cl/
DTSTAMP:20260422T234732Z
DESCRIPTION:Defensa pública de la Tesis de Magister del estudiante Sebastiá
 n Panatt:\n'Cartago en Roma. Lo púnico en la historia y cultura romana'\n&
 nbsp\;\nVía Zoom&nbsp\;\nLunes 04 de julio de 2022\n15:00 hrs\n\n&nbsp\; h
 ttps://historia.uc.cl/agenda/calendario/evento/211-defensa-de-magister-de-
 sebastian-panatt
DTSTART:20220704T150000Z
DTEND:20220704T170000Z
LOCATION:Online ()
SUMMARY:Defensa de Magíster de Sebastián Panatt 
URL:https://historia.uc.cl/agenda/calendario/evento/211-defensa-de-magister
 -de-sebastian-panatt
END:VEVENT
END:VCALENDAR
