BEGIN:VCALENDAR
VERSION:2.0
PRODID:-//https://historia.uc.cl///NONSGML kigkonsult.se iCalcreator 2.10.15//
METHOD:PUBLISH
BEGIN:VEVENT
UID:20260423T031354UTC-3271PVgD6f@https://historia.uc.cl/
DTSTAMP:20260423T031354Z
DESCRIPTION:Residencias en Historia\n&nbsp\;\nExpone: Iván de los Ríos (Uni
 versidad Autónoma de Madrid)\n'Elogio del derrumbe: concepto y experiencia
  del fracaso en el proyecto&nbsp\;filosófico de la Modernidad'\n&nbsp\;\nM
 iércoles 6 de julio\n16:00 horas (Santiago de Chile)\nVía Zoom\n&nbsp\;\n:
 : Inscripciones&nbsp\;AQUÍ\nOrganizan:\n- Instituto de Historia UC\n&nbsp\
 ;\n- “Failure: Reversing the Genealogies of Unsuccess\, 16th–19th Centurie
 s” (H2020-MSCA-RISE\, Grant agreement: 823998)\n&nbsp\;\n- Proyecto ANID F
 ondecyt Regular n° 1211183\n https://historia.uc.cl/agenda/calendario/even
 to/207-residencias-en-historia-expone-ivan-de-los-rios-universidad-autonom
 a-de-madrid
DTSTART:20220706T160000Z
DTEND:20220706T173000Z
LOCATION:Online ()
SUMMARY:Residencias en Historia: expone Iván de los Ríos (Universidad Autón
 oma de Madrid)
URL:https://historia.uc.cl/agenda/calendario/evento/207-residencias-en-hist
 oria-expone-ivan-de-los-rios-universidad-autonoma-de-madrid
END:VEVENT
BEGIN:VEVENT
UID:20260423T031354UTC-3277vXddkE@https://historia.uc.cl/
DTSTAMP:20260423T031354Z
DESCRIPTION:“Las Troyanas: reflexión interdisciplinar sobre la guerra\, aye
 r y hoy”\nMiércoles 6 de julio\, 16:00 hrs.&nbsp\;Centro de Extensión del 
 Campus Oriente \, ubicado en Avda. Jaime Guzmán Errázuriz #3300\, Providen
 cia.\n&nbsp\; &nbsp\; &nbsp\; &nbsp\; &nbsp\; &nbsp\;*Se pedirá pase de mo
 vilidad\n&nbsp\; &nbsp\; &nbsp\; &nbsp\; &nbsp\; &nbsp\; INSCRIPCIONES ACÁ
 &nbsp\;\nPrograma:16:30- 17:30 Coloquio en el que participan Susana Gazmur
 i\, Andrés Kalawski y Diego Repenning (moderadora: María José Cot)17:30 – 
 17.45 Café18:00 : “Puesta en espacio del texto “Las Troyanas” de Eurípides
  realizada por estudiantes de la Escuela de Teatro UC dirigidos por los pr
 ofesores Sofía Zagal y Ramón Gutiérrez”.\nActividad en conjunto con la Esc
 uela de Teatro UC\n https://historia.uc.cl/agenda/calendario/evento/215-la
 s-troyanas-reflexion-interdisciplinar-sobre-la-guerra-ayer-y-hoy
DTSTART:20220706T163000Z
DTEND:20220706T190000Z
LOCATION:Centro de extensión- Campus Oriente  (Avda. Jaime Guzmán Errázuriz
  #3300\, Providencia.)
SUMMARY:“Las Troyanas: reflexión interdisciplinar sobre la guerra\, ayer y 
 hoy”
URL:https://historia.uc.cl/agenda/calendario/evento/215-las-troyanas-reflex
 ion-interdisciplinar-sobre-la-guerra-ayer-y-hoy
END:VEVENT
END:VCALENDAR
