BEGIN:VCALENDAR
VERSION:2.0
PRODID:-//https://historia.uc.cl///NONSGML kigkonsult.se iCalcreator 2.10.15//
METHOD:PUBLISH
BEGIN:VEVENT
UID:20260423T030759UTC-5812Ooc1uW@https://historia.uc.cl/
DTSTAMP:20260423T030759Z
DESCRIPTION:Defensa pública de la Tesis de Magister del estudiante Matías M
 oreno Durán:\nEl trabajo barbarizado. Explotación y genocidio Selk’nam en 
 Tierra del Fuego\, 1879-1912\n&nbsp\;\nSala Seminario Facultad\nLunes 25 d
 e julio de 2022\, a las 10:00 hrs\n&nbsp\;\n https://historia.uc.cl/agenda
 /calendario/evento/225-defensa-de-magister-de-matias-moreno
DTSTART:20220725T100000Z
DTEND:20220725T113000Z
LOCATION:Sala Seminario de la Facultad de Historia\, Geografía y Ciencia Po
 lítica ()
SUMMARY:Defensa de Magíster de Matías Moreno
URL:https://historia.uc.cl/agenda/calendario/evento/225-defensa-de-magister
 -de-matias-moreno
END:VEVENT
END:VCALENDAR
