BEGIN:VCALENDAR
VERSION:2.0
PRODID:-//https://historia.uc.cl///NONSGML kigkonsult.se iCalcreator 2.10.15//
METHOD:PUBLISH
BEGIN:VEVENT
UID:20260423T030651UTC-0923dUd2X5@https://historia.uc.cl/
DTSTAMP:20260423T030651Z
DESCRIPTION:Defensa pública de la Tesis de Doctorado del estudiante Robinso
  Lira Castro:\nREFORMAR LA EDUCACIÓN PARA ENCAUZAR LA REVOLUCIÓN: LA REFOR
 MA EDUCACIONAL EN EL GOBIERNO DE LA REVOLUCIÓN EN LIBERTAD (1964–1970).\nS
 ala Usos Múltiples\nViernes 05 de agosto de 2022\, a las 10:00 hrs\n&nbsp\
 ;\n https://historia.uc.cl/agenda/calendario/evento/227-defensa-de-doctora
 do-de-robinson-lira
DTSTART:20220805T100000Z
DTEND:20220805T120000Z
LOCATION:Sala de Usos Múltiples  (Sala de Usos Múltiples\, Facultad de Hist
 oria\, Geografía y Ciencia Política)
SUMMARY:Defensa de Doctorado de Robinson Lira 
URL:https://historia.uc.cl/agenda/calendario/evento/227-defensa-de-doctorad
 o-de-robinson-lira
END:VEVENT
END:VCALENDAR
