BEGIN:VCALENDAR
VERSION:2.0
PRODID:-//https://historia.uc.cl///NONSGML kigkonsult.se iCalcreator 2.10.15//
METHOD:PUBLISH
BEGIN:VEVENT
UID:20260423T031358UTC-5734ohvwXH@https://historia.uc.cl/
DTSTAMP:20260423T031358Z
DESCRIPTION:Fundación Puerto de Ideas les invita al lanzamiento&nbsp\;del l
 ibro '8 de agosto de 1828. Un día histórico como cualquiera'\, del histori
 ador Rafael Sagredo Baeza\nPresentan: Elvira López (doctora en Historia y 
 Civilizaciones\, académica de la U. Adolfo Ibañez)&nbsp\; &nbsp\; &nbsp\; 
 &nbsp\; &nbsp\; &nbsp\; &nbsp\; &nbsp\; &nbsp\; Lucas Sierra (doctor en Ci
 encias sociales y Políticas\, investigador del Centro de Estudios Públicos
 )\n&nbsp\;\nJueves 11 de agosto\, 11:30 hrs.&nbsp\;\nSala América de la Bi
 blioteca Nacional&nbsp\;\n&nbsp\;\n https://historia.uc.cl/agenda/calendar
 io/evento/231-lanzamiento-del-libro-8-de-agosto-de-1828-un-dia-historico-c
 omo-cualquiera
DTSTART:20220811T113000Z
DTEND:20220811T130000Z
LOCATION:Sala América de la Biblioteca Nacional (Av. Libertador Bernardo O'
 Higgins 651)
SUMMARY:Lanzamiento del libro '8 de agosto de 1828. Un día histórico como c
 ualquiera'
URL:https://historia.uc.cl/agenda/calendario/evento/231-lanzamiento-del-lib
 ro-8-de-agosto-de-1828-un-dia-historico-como-cualquiera
END:VEVENT
END:VCALENDAR
