BEGIN:VCALENDAR
VERSION:2.0
PRODID:-//https://historia.uc.cl///NONSGML kigkonsult.se iCalcreator 2.10.15//
METHOD:PUBLISH
BEGIN:VEVENT
UID:20260422T151451UTC-99695an02T@https://historia.uc.cl/
DTSTAMP:20260422T151451Z
DESCRIPTION: https://historia.uc.cl/agenda/calendario/evento/235-oportunida
 des-constitucionales-precedentes-y-perspectiva-comparada
DTSTART:20220816T130000Z
DTEND:20220816T140000Z
LOCATION:Auditorio 1 de la Escuela de Odontología. Piso -1  ()
SUMMARY:Oportunidades Constitucionales: Precedentes y Perspectiva Comparada
URL:https://historia.uc.cl/agenda/calendario/evento/235-oportunidades-const
 itucionales-precedentes-y-perspectiva-comparada
END:VEVENT
END:VCALENDAR
