BEGIN:VCALENDAR
VERSION:2.0
PRODID:-//https://historia.uc.cl///NONSGML kigkonsult.se iCalcreator 2.10.15//
METHOD:PUBLISH
BEGIN:VEVENT
UID:20260422T073229UTC-9196hEFJtc@https://historia.uc.cl/
DTSTAMP:20260422T073229Z
DESCRIPTION:El autor de&nbsp\;Al margen de Europa&nbsp\;(Tusquets\, 2008)\,
 &nbsp\;El humanismo en la era de la globalización&nbsp\;(Katz\, 2009) y&nb
 sp\;Clima y capital. La vida bajo el antropoceno&nbsp\;(Mimesis\, 2021)\,&
 nbsp\;Dipesh Chakrabarty\,&nbsp\;se presentará en la Cátedra Puerto de Ide
 as-UC\, con su ponencia&nbsp\;“De la historia global a la historia planeta
 ria: los desafíos políticos de la agencia climática”\,&nbsp\;organizada en
  conjunto por la&nbsp\;Fundación Puerto de Ideas\, y la Facultad de Histor
 ia\, Geografía y Ciencia Política de la Pontificia Universidad Católica de
  Chile.\nLa actividad contará con los comentarios de los docentes del Inst
 ituto de Historia UC\,&nbsp\;Francisca de la Maza&nbsp\;y&nbsp\;Patricio A
 rriagada\, y se realizará&nbsp\;de forma presencial y entrada liberada&nbs
 p\;(sin inscripción previa)\, el lunes 29 de agosto a las 13.00 horas en e
 l Auditorio de la Facultad de Historia\, Geografía y Ciencia Política UC&n
 bsp\;\n https://historia.uc.cl/agenda/calendario/evento/239-dipesh-chakrab
 arty-en-la-catedra-puerto-de-ideas-uc
DTSTART:20220829T130000Z
DTEND:20220829T143000Z
LOCATION:Auditorio Facultad de Historia\, Geografía y Ciencia Política  ()
SUMMARY:Dipesh Chakrabarty en la Catedra Puerto de Ideas - UC
URL:https://historia.uc.cl/agenda/calendario/evento/239-dipesh-chakrabarty-
 en-la-catedra-puerto-de-ideas-uc
END:VEVENT
END:VCALENDAR
