BEGIN:VCALENDAR
VERSION:2.0
PRODID:-//https://historia.uc.cl///NONSGML kigkonsult.se iCalcreator 2.10.15//
METHOD:PUBLISH
BEGIN:VEVENT
UID:20260422T073309UTC-7058u1jfWf@https://historia.uc.cl/
DTSTAMP:20260422T073309Z
DESCRIPTION::: Sesión 3Dimensiones de cambio&nbsp\;Jueves 1 de Septiembre13
 .00 a 14.30 hrs.Exponen:&nbsp\;Francisca de la Maza&nbsp\;(Instituto de Hi
 storia)\,&nbsp\;Jonathan Barton&nbsp\;(Instituto de Geografía) y&nbsp\;Ros
 s Mittiga&nbsp\;(Instituto de Ciencia Política).\nLugar: Auditorio Faculta
 d de Historia\, Geografía y Ciencia Política.\n https://historia.uc.cl/age
 nda/calendario/evento/241-ciclo-de-charlas-oportunidades-constitucionales-
 sesion-3
DTSTART:20220901T130000Z
DTEND:20220901T143000Z
LOCATION:Auditorio Facultad de Historia\, Geografía y Ciencia Política  ()
SUMMARY:Ciclo de charlas “Oportunidades Constitucionales” - Sesión 3
URL:https://historia.uc.cl/agenda/calendario/evento/241-ciclo-de-charlas-op
 ortunidades-constitucionales-sesion-3
END:VEVENT
END:VCALENDAR
