BEGIN:VCALENDAR
VERSION:2.0
PRODID:-//https://historia.uc.cl///NONSGML kigkonsult.se iCalcreator 2.10.15//
METHOD:PUBLISH
BEGIN:VEVENT
UID:20260422T073308UTC-03058SvSZr@https://historia.uc.cl/
DTSTAMP:20260422T073308Z
DESCRIPTION:Alteridades: Reflexiones históricas y vivencias ciudadanas\nExp
 onen:\nPierre-Antonie Fabre (École des hautes études en sciences sociales 
 | EHESS)\nOlaya Sanfuentes (Instituto de Historia UC)\nJean-Frédéric Schau
 b ( École des hautes études en sciences sociales | EHESS)\n&nbsp\;\nMíerco
 les 7 de septiembre14:00 hrs.Sala Seminario | Facultad de Historia\, Geohg
 rafía y Ciencia Política UC\n https://historia.uc.cl/agenda/calendario/eve
 nto/243-alteridades-reflexiones-historicas-y-vivencias-ciudadanas
DTSTART:20220907T140000Z
DTEND:20220907T153000Z
LOCATION:Sala Seminario de la Facultad de Historia\, Geografía y Ciencia Po
 lítica ()
SUMMARY:Alteridades: Reflexiones históricas y vivencias ciudadanas
URL:https://historia.uc.cl/agenda/calendario/evento/243-alteridades-reflexi
 ones-historicas-y-vivencias-ciudadanas
END:VEVENT
END:VCALENDAR
