BEGIN:VCALENDAR
VERSION:2.0
PRODID:-//https://historia.uc.cl///NONSGML kigkonsult.se iCalcreator 2.10.15//
METHOD:PUBLISH
BEGIN:VEVENT
UID:20260422T073603UTC-3009FbOazw@https://historia.uc.cl/
DTSTAMP:20260422T073603Z
DESCRIPTION:Workshop “Los retos de la escritura de una Historia intelectual
  de la Compañía de Jesús en Chile en el siglo XX”\n&nbsp\;\nFecha: viernes
  9 de septiembre 2022\nLugar: Sala de investigación\, Universidad Alberto 
 Hurtado\n&nbsp\;\nExponen:\nSilvia Mostaccio- UC de Louvain\, Bélgica.\nPi
 erre Antoine Fabre- EHESS\, Francia.\nClaudio Rolle- UC\, Chile. Rafael Ga
 une- UC\, Chile.\nCarlos Álvarez S.J- ITER-UAH\, Chile\n&nbsp\;\nResumen: 
 Este workshop busca reflexionar y examinar las claves historiográficas req
 ueridas para escribir una historia intelectual de la Compañía de Jesús en 
 el siglo XX\, en una perspectiva cultural y social.\n&nbsp\;\n https://his
 toria.uc.cl/agenda/calendario/evento/249-workshop-los-retos-de-la-escritur
 a-de-una-historia-intelectual-de-la-compania-de-jesus-en-chile-en-el-siglo
 -xx
DTSTART:20220909T090000Z
DTEND:20220909T235000Z
LOCATION:Sala de investigación\, Universidad Alberto Hurtado (Sala de inves
 tigación\, Universidad Alberto Hurtado)
SUMMARY:Workshop “Los retos de la escritura de una Historia intelectual de 
 la Compañía de Jesús en Chile en el siglo XX”
URL:https://historia.uc.cl/agenda/calendario/evento/249-workshop-los-retos-
 de-la-escritura-de-una-historia-intelectual-de-la-compania-de-jesus-en-chi
 le-en-el-siglo-xx
END:VEVENT
END:VCALENDAR
