BEGIN:VCALENDAR
VERSION:2.0
PRODID:-//https://historia.uc.cl///NONSGML kigkonsult.se iCalcreator 2.10.15//
METHOD:PUBLISH
BEGIN:VEVENT
UID:20260422T151420UTC-1375B4Tmm6@https://historia.uc.cl/
DTSTAMP:20260422T151420Z
DESCRIPTION:“¿Cómo&nbsp\;se&nbsp\;construye&nbsp\;un&nbsp\;saber entre Roma
 \, Chile y la isla de Chiloé en el siglo XVII?”\nMartes 20 de septiembre10
 :00 hrs.&nbsp\;\nUniversidad Nacional de Csota Rica&nbsp\;\n&nbsp\;\n http
 s://historia.uc.cl/agenda/calendario/evento/253-como-se-construye-un-saber
 -entre-roma-chile-y-la-isla-de-chiloe-en-el-siglo-xvii
DTSTART:20220920T100000Z
DTEND:20220920T120000Z
LOCATION:Universidad Nacional de Costa Rica  ()
SUMMARY:“¿Cómo se construye un saber entre Roma\, Chile y la isla de Chiloé
  en el siglo XVII?”
URL:https://historia.uc.cl/agenda/calendario/evento/253-como-se-construye-u
 n-saber-entre-roma-chile-y-la-isla-de-chiloe-en-el-siglo-xvii
END:VEVENT
END:VCALENDAR
