BEGIN:VCALENDAR
VERSION:2.0
PRODID:-//https://historia.uc.cl///NONSGML kigkonsult.se iCalcreator 2.10.15//
METHOD:PUBLISH
BEGIN:VEVENT
UID:20260422T073609UTC-5917uLRUwn@https://historia.uc.cl/
DTSTAMP:20260422T073609Z
DESCRIPTION:\nSeminario Interno de Investigación 2022\n&nbsp\;\nMiércoles 2
 1 de septiembre: \nOlaya Sanfuentes\n“Esculturas de madera del niño Jesús 
 en Chile\, siglo XVIII-XXI. Investigación y análisis de la objetualidad de
  un artefacto religioso desde los llamados Estudios de la Cultura Material
 ”\n&nbsp\;\nSala de Usos múltiples\, Sala de Usos múltiples\, Facultad de 
 Historia\, Geografía y Ciencia Política (2° piso) https://historia.uc.cl/a
 genda/calendario/evento/163-seminario-interno-de-investigacion-2022
DTSTART:20220921T140000Z
DTEND:20220921T152000Z
LOCATION:Sala de Usos Múltiples  (Sala de Usos Múltiples\, Facultad de Hist
 oria\, Geografía y Ciencia Política)
SUMMARY:Seminario Interno de Investigación 2022
URL:https://historia.uc.cl/agenda/calendario/evento/163-seminario-interno-d
 e-investigacion-2022
END:VEVENT
END:VCALENDAR
