BEGIN:VCALENDAR
VERSION:2.0
PRODID:-//https://historia.uc.cl///NONSGML kigkonsult.se iCalcreator 2.10.15//
METHOD:PUBLISH
BEGIN:VEVENT
UID:20260422T151352UTC-0160B6OrM4@https://historia.uc.cl/
DTSTAMP:20260422T151352Z
DESCRIPTION:Presentación del libro 'Identidad jesuita entre dos mundos'\, d
 el profesor René Millar\nComenta: Pierre- Antonie Fabre (EHESS)\nLugar: Bi
 blioteca de humandiades- Campus San Joaquín\n&nbsp\;\nViernes 23 de septie
 mbre\n11:30 hrs.&nbsp\;\n&nbsp\;\n https://historia.uc.cl/agenda/calendari
 o/evento/251-presentacion-del-libro-identidad-jesuita-entre-dos-mundos-del
 -profesor-rene-millar
DTSTART:20220923T113000Z
DTEND:20220923T130000Z
LOCATION:Biblioteca de Humanidades (- Campus San Joaquín)
SUMMARY: Presentación del libro 'Identidad jesuita entre dos mundos'\, del 
 profesor René Millar 
URL:https://historia.uc.cl/agenda/calendario/evento/251-presentacion-del-li
 bro-identidad-jesuita-entre-dos-mundos-del-profesor-rene-millar
END:VEVENT
BEGIN:VEVENT
UID:20260422T151352UTC-0165OmpP1r@https://historia.uc.cl/
DTSTAMP:20260422T151352Z
DESCRIPTION:'Un&nbsp\;cristianismo textual.&nbsp\;La luz\, el silencio y la
 s palabras de la conversión religiosa americana en Roma\, siglos XVI-XVII”
  \nViernes 23 de septiembre&nbsp\;\n Archivo Histórico Arquidiocesano Bern
 ardo Augusto Thiel\n https://historia.uc.cl/agenda/calendario/evento/255-u
 n-cristianismo-textual-la-luz-el-silencio-y-las-palabras-de-la-conversion-
 religiosa-americana-en-roma-siglos-xvi-xvii
DTSTART:20220923T093000Z
DTEND:20220923T120000Z
LOCATION:Archivo Histórico Arquidiocesano Bernardo Augusto Thiel ()
SUMMARY:'Un cristianismo textual. La luz\, el silencio y las palabras de la
  conversión religiosa americana en Roma\, siglos XVI-XVII” 
URL:https://historia.uc.cl/agenda/calendario/evento/255-un-cristianismo-tex
 tual-la-luz-el-silencio-y-las-palabras-de-la-conversion-religiosa-american
 a-en-roma-siglos-xvi-xvii
END:VEVENT
END:VCALENDAR
