BEGIN:VCALENDAR
VERSION:2.0
PRODID:-//https://historia.uc.cl///NONSGML kigkonsult.se iCalcreator 2.10.15//
METHOD:PUBLISH
BEGIN:VEVENT
UID:20260422T044255UTC-2994DinSzI@https://historia.uc.cl/
DTSTAMP:20260422T044255Z
DESCRIPTION:\nSeminario Interno de Investigación 2022\n&nbsp\;\nMiércoles 1
 9 de octubre: \nCarolina Odone\n“Mirando ponchitos / unkus de santos en el
  Sur andino”\n&nbsp\;\nSala de Usos múltiples\, Sala de Usos múltiples\, F
 acultad de Historia\, Geografía y Ciencia Política (2° piso) https://histo
 ria.uc.cl/agenda/calendario/evento/165-seminario-interno-de-investigacion-
 2022
DTSTART:20221019T140000Z
DTEND:20221019T152000Z
LOCATION:Sala de Usos Múltiples  (Sala de Usos Múltiples\, Facultad de Hist
 oria\, Geografía y Ciencia Política)
SUMMARY:Seminario Interno de Investigación 2022
URL:https://historia.uc.cl/agenda/calendario/evento/165-seminario-interno-d
 e-investigacion-2022
END:VEVENT
BEGIN:VEVENT
UID:20260422T044255UTC-2998XmBxWv@https://historia.uc.cl/
DTSTAMP:20260422T044255Z
DESCRIPTION:Coloquio en el centenario del nacimiento de Pier Paolo Pasolini
 &nbsp\;\n&nbsp\;\nMiércoles 19 de octubreSala Seminarios10:00 - 13:00 hrs.
 \n\n&nbsp\; https://historia.uc.cl/agenda/calendario/evento/267-coloquio-p
 asolini
DTSTART:20221019T100000Z
DTEND:20221019T130000Z
LOCATION:Sala Seminario de la Facultad de Historia\, Geografía y Ciencia Po
 lítica ()
SUMMARY:Coloquio Pasolini 
URL:https://historia.uc.cl/agenda/calendario/evento/267-coloquio-pasolini
END:VEVENT
END:VCALENDAR
