BEGIN:VCALENDAR
VERSION:2.0
PRODID:-//https://historia.uc.cl///NONSGML kigkonsult.se iCalcreator 2.10.15//
METHOD:PUBLISH
BEGIN:VEVENT
UID:20260422T044256UTC-5230F59wCt@https://historia.uc.cl/
DTSTAMP:20260422T044256Z
DESCRIPTION:Presentación del libro 'Salvar la raza' de Cecilia Autrique\nCo
 mentan:Cecilia AutriqueMarcos Fernández&nbsp\;\n24 de octubre14:00 hrs.Bib
 lioteca de Humanidades\n\n&nbsp\; https://historia.uc.cl/agenda/calendario
 /evento/265-presentacion-del-libro-salvar-la-raza-de-cecilia-autrique
DTSTART:20221024T140000Z
DTEND:20221024T153000Z
LOCATION:Biblioteca de Humanidades  (Campus San Joaquín)
SUMMARY:Presentación del libro 'Salvar la raza' de Cecilia Autrique 
URL:https://historia.uc.cl/agenda/calendario/evento/265-presentacion-del-li
 bro-salvar-la-raza-de-cecilia-autrique
END:VEVENT
END:VCALENDAR
