BEGIN:VCALENDAR
VERSION:2.0
PRODID:-//https://historia.uc.cl///NONSGML kigkonsult.se iCalcreator 2.10.15//
METHOD:PUBLISH
BEGIN:VEVENT
UID:20260422T060730UTC-6556IL8xwH@https://historia.uc.cl/
DTSTAMP:20260422T060730Z
DESCRIPTION:\n&nbsp\;\nViernes 28 de octubre: \nMariana Hernández\n“De San 
 Ignacio a San Francisco: cambio evangelizador en territorio indígena. Últi
 mo período jesuita y entrada franciscana desde el Fiu Fiu al Wenuleufu. 17
 23-1811”\n&nbsp\;\nSala de Usos múltiples\, Facultad de Historia\, Geograf
 ía y Ciencia Política (2° piso)\n10:00 hrs.&nbsp\; https://historia.uc.cl/
 agenda/calendario/evento/147-seminario-interno-de-estudiantes-de-posgrado-
 2022
DTSTART:20221028T100000Z
DTEND:20221028T113000Z
LOCATION:Sala de Usos Múltiples  (Sala de Usos Múltiples\, Facultad de Hist
 oria\, Geografía y Ciencia Política)
SUMMARY:Seminario Interno de Estudiantes de Posgrado 2022
URL:https://historia.uc.cl/agenda/calendario/evento/147-seminario-interno-d
 e-estudiantes-de-posgrado-2022
END:VEVENT
END:VCALENDAR
