BEGIN:VCALENDAR
VERSION:2.0
PRODID:-//https://historia.uc.cl///NONSGML kigkonsult.se iCalcreator 2.10.15//
METHOD:PUBLISH
BEGIN:VEVENT
UID:20260422T093738UTC-3981wwkvka@https://historia.uc.cl/
DTSTAMP:20260422T093738Z
DESCRIPTION:Creer\, obedecer\, combatir hasta el fin del mundo. El fascismo
  italiano en Chile (1922-1950)&nbsp\;de Raffaele Nocera y Angelo Trento\nC
 omentan:Raffaele Nocera-&nbsp\;Università di Napoli L'orientaleValerio Gia
 nnattasio - Università della Campania Luigi Vanvitelli\nMiércoles 2 de nov
 iembre14:00 hrs.\nBiblioteca de Humanidades&nbsp\;\n&nbsp\;\n\n&nbsp\; htt
 ps://historia.uc.cl/agenda/calendario/evento/271-presentacion-del-libro-cr
 ecer-obedecer-combatir-hasta-el-fin-del-mundo
DTSTART:20221102T140000Z
DTEND:20221102T153000Z
LOCATION:Biblioteca de Humanidades  (Campus San Joaquín)
SUMMARY:Presentación del libro 'Crecer\, obedecer\, combatir hasta el fin d
 el mundo' 
URL:https://historia.uc.cl/agenda/calendario/evento/271-presentacion-del-li
 bro-crecer-obedecer-combatir-hasta-el-fin-del-mundo
END:VEVENT
BEGIN:VEVENT
UID:20260422T093738UTC-3985VS1uvD@https://historia.uc.cl/
DTSTAMP:20260422T093738Z
DESCRIPTION:El encuentro es parte de los proyectos Fondecyt Regular N°12001
 45 “Conflictos católicos. La Iglesia católica ante las dictaduras militare
 s en Chile y Argentina” (Stephan Ruderer)\; y N°1170613 'Catolicismo y pol
 ítica: vocabulario conceptual\, opinión pública y acción política desde un
 a perspectiva comparada: 1970-1985” (Marcos Fernández).PROGRAMAMiércoles 2
  de noviembreInstituto de Historia UCAuditorio Facultad de LetrasCampus Sa
 n Joaquín\n9.00- 9.10Presentación9.10 -9.50Carlos Alvarez (UAH\, Chile): D
 e las cenizas de la crisis modernista a la búsqueda de libertad. El debate
  de la teología Católica en el pre-Concilio Vaticano II.9.50- 10.30José Ig
 nacio Fernández (Universidad Católica del Maule\, Chile): Teología de la p
 articipación chilena en la fase ante-preparatoria del Vaticano II.10.30-11
 .10Jose Zanca (ISHIR-CONICET\, Argentina): Curas\, centauros y profetas. I
 ntelectuales e ideas del catolicismo argentino en la hora del Concilio.11.
 10-11.30Café11.30-12.10Virginia Azcuy (UCA\, Argentina / CTML/UC\, Chile):
  La vida religiosa consagrada en Argentina y Chile del tiempo conciliar. A
 spectos generales y algunos signos de renovación12.10-12.50Stephan Ruderer
  (PUC\, Chile): La Misión General en Buenos Aires (1960) y en Santiago (19
 63) como indicador del estado interno de las Iglesias católicas argentina 
 y chilena:: INSCRIPCIONES acceso Zoom (2 noviembre)&nbsp\;AQUÍJueves 3 de 
 noviembreFacultad de Historia\, UAHSala de Investigación\, Casa EsperanzaA
 lmirante Barroso 10\n14.00-14.40Sebastián Pattin (INHUS – UNMdP – CONICET\
 , Argentina): 1962: El inicio del terremoto. La Iglesia católica argentina
  y el comienzo del Concilio Vaticano II14.40-15.20Blanca de la Fuente (ITE
 R\, Chile): El catolicismo chileno en conflicto: debates y enfrentamientos
  a partir del movimiento campesino en Molina (1947-1962)15.20-16.00Andrea 
 Botto (Universidad Finis Terrae\, Chile): El pensamiento católico conserva
 dor en Chile en el contexto del Concilio Vaticano II16.00-16.20Café16.20-1
 7.00Claudia Touris (UBA-UNLu\, Argentina): El catolicismo argentino en su 
 laberinto. Conflictos intraeclesiásticos\, radicalización y clero contesta
 tario después del Concilio Vaticano II17.00-17.40Marcos Fernández (UAH\, C
 hile): La sal de la tierra: la politización de los laicos y el debate en t
 orno al papel político del catolicismo en Chile a inicios de la década de 
 1960. https://historia.uc.cl/agenda/calendario/evento/275-coloquio-interna
 cional-1962-las-iglesias-catolicas-de-argentina-y-chile-y-las-vias-de-aper
 tura-al-mundo-moderno
DTSTART:20221102T090000Z
DTEND:20221103T174000Z
LOCATION:Auditorio Facultad de Letras  (Campus San Joaquín )
SUMMARY:Coloquio Internacional 1962. Las Iglesias católicas de Argentina y 
 Chile y las vías de apertura al mundo moderno
URL:https://historia.uc.cl/agenda/calendario/evento/275-coloquio-internacio
 nal-1962-las-iglesias-catolicas-de-argentina-y-chile-y-las-vias-de-apertur
 a-al-mundo-moderno
END:VEVENT
END:VCALENDAR
