BEGIN:VCALENDAR
VERSION:2.0
PRODID:-//https://historia.uc.cl///NONSGML kigkonsult.se iCalcreator 2.10.15//
METHOD:PUBLISH
BEGIN:VEVENT
UID:20260422T021516UTC-2386UaFtpp@https://historia.uc.cl/
DTSTAMP:20260422T021516Z
DESCRIPTION:Seminario “Historia conceptual: perspectivas y desafíos metodol
 ógicos”\nMartes 8 y miércoles 9 de noviembre\nSala de Seminario\n10:00 - 1
 7:00 hrs.&nbsp\;\nDescarga el programa ACÁ&nbsp\;\n https://historia.uc.cl
 /agenda/calendario/evento/269-seminario-historia-conceptual-perspectivas-y
 -desafios-metodologicos
DTSTART:20221108T100000Z
DTEND:20221109T170000Z
LOCATION:Sala Seminario de la Facultad de Historia\, Geografía y Ciencia Po
 lítica ()
SUMMARY:Seminario “Historia conceptual: perspectivas y desafíos metodológic
 os”
URL:https://historia.uc.cl/agenda/calendario/evento/269-seminario-historia-
 conceptual-perspectivas-y-desafios-metodologicos
END:VEVENT
END:VCALENDAR
