BEGIN:VCALENDAR
VERSION:2.0
PRODID:-//https://historia.uc.cl///NONSGML kigkonsult.se iCalcreator 2.10.15//
METHOD:PUBLISH
BEGIN:VEVENT
UID:20260422T132714UTC-3065mVjbw4@https://historia.uc.cl/
DTSTAMP:20260422T132714Z
DESCRIPTION:Residencias en Historia&nbsp\;\n| Elías Palti (UBA- CONICET)&nb
 sp\;\n'El nacimiento de lo político en el mundo hispánico'\nMartes 15 de n
 oviembre&nbsp\;16:00 hrs.Zoom\nInscríbete ACÁ&nbsp\;\n\n&nbsp\;\n&nbsp\; h
 ttps://historia.uc.cl/agenda/calendario/evento/273-residencias-en-historia
 -elias-palti
DTSTART:20221115T160000Z
DTEND:20221115T173000Z
LOCATION:Online ()
SUMMARY:Residencias en Historia | Elías Palti
URL:https://historia.uc.cl/agenda/calendario/evento/273-residencias-en-hist
 oria-elias-palti
END:VEVENT
BEGIN:VEVENT
UID:20260422T132714UTC-3070Bsi8g8@https://historia.uc.cl/
DTSTAMP:20260422T132714Z
DESCRIPTION:\nEncuentro de Saberes para la Equidad de Género\n\n\n&nbsp\;\n
 Este evento\, tiene por objetivo reflexionar sobre la generación de conoci
 miento para la equidad de género\, a través de un diálogo interdisciplinar
 io que facilite el pluralismo de ideas y experiencias en torno a la temáti
 ca.&nbsp\;\n\n&nbsp\;\nParticipará nuestra profesora Verónica Undurraga&nb
 sp\;\n&nbsp\;\n\nMartes 15 de noviembre 15:00 a 18:00 hrsAuditorio del Cen
 tro de Innovación del campus San Joaquín\n&nbsp\;\nPara asistir inscríbete
  ACÁ&nbsp\;\n&nbsp\;\n\n&nbsp\;\n\n&nbsp\;\n\n&nbsp\;\n https://historia.u
 c.cl/agenda/calendario/evento/279-encuentro-de-saberes-para-la-equidad-de-
 genero
DTSTART:20221115T150000Z
DTEND:20221115T180000Z
LOCATION:Auditorio del Centro de Innovación (Campus San Joaquín)
SUMMARY:Encuentro de Saberes para la Equidad de Género
URL:https://historia.uc.cl/agenda/calendario/evento/279-encuentro-de-sabere
 s-para-la-equidad-de-genero
END:VEVENT
END:VCALENDAR
