BEGIN:VCALENDAR
VERSION:2.0
PRODID:-//https://historia.uc.cl///NONSGML kigkonsult.se iCalcreator 2.10.15//
METHOD:PUBLISH
BEGIN:VEVENT
UID:20260422T093737UTC-3546Iipo3z@https://historia.uc.cl/
DTSTAMP:20260422T093737Z
DESCRIPTION:\n&nbsp\;\nSeminario Interno de Investigación 2022\n&nbsp\;\nMi
 ércoles 16 de noviembre: \nSylvia Dummer&nbsp\;\n“Llevar el nombre de la n
 ación al más alto nivel.&nbsp\;La Diplomacia Pública de Chile desde una pe
 rspectiva cultural y transnacional\, 1920-1970”\n&nbsp\;\nSala de Usos múl
 tiples\, Sala de Usos múltiples\, Facultad de Historia\, Geografía y Cienc
 ia Política (2° piso) https://historia.uc.cl/agenda/calendario/evento/167-
 seminario-interno-de-investigacion-2022
DTSTART:20221116T140000Z
DTEND:20221116T164000Z
LOCATION:Sala de Usos Múltiples  (Sala de Usos Múltiples\, Facultad de Hist
 oria\, Geografía y Ciencia Política)
SUMMARY:Seminario Interno de Investigación 2022
URL:https://historia.uc.cl/agenda/calendario/evento/167-seminario-interno-d
 e-investigacion-2022
END:VEVENT
END:VCALENDAR
