BEGIN:VCALENDAR
VERSION:2.0
PRODID:-//https://historia.uc.cl///NONSGML kigkonsult.se iCalcreator 2.10.15//
METHOD:PUBLISH
BEGIN:VEVENT
UID:20260422T063314UTC-5474Rwjjag@https://historia.uc.cl/
DTSTAMP:20260422T063314Z
DESCRIPTION:Pueblo/plebe: contra-conceptos en tensión en las revueltas y re
 voluciones\, de la Edad Moderna a la Contemporánea\nExpositor:&nbsp\;Pablo
  Sánchez León&nbsp\;(Investigador\, CHAM-Centro de Humanidades\, Universid
 ade Nova de Lisboa)\nJueves 17 de noviembre 13:30 hrs.\nSala de Usos Múlti
 ples (Fac. de Historia\, Geografía y Ciencia Política)\nOrganiza: Proyecto
  RESISTANCE (778076-H2020-MSCA-RISE-2017)&nbsp\;\n&nbsp\;\n https://histor
 ia.uc.cl/agenda/calendario/evento/277-pueblo-plebe-contra-conceptos-en-ten
 sion-en-las-revueltas-y-revoluciones-de-la-edad-moderna-a-la-contemporanea
DTSTART:20221117T133000Z
DTEND:20221117T150000Z
LOCATION:Sala de Usos Múltiples  (Sala de Usos Múltiples\, Facultad de Hist
 oria\, Geografía y Ciencia Política)
SUMMARY: Pueblo/plebe: contra-conceptos en tensión en las revueltas y revol
 uciones\, de la Edad Moderna a la Contemporánea
URL:https://historia.uc.cl/agenda/calendario/evento/277-pueblo-plebe-contra
 -conceptos-en-tension-en-las-revueltas-y-revoluciones-de-la-edad-moderna-a
 -la-contemporanea
END:VEVENT
END:VCALENDAR
