BEGIN:VCALENDAR
VERSION:2.0
PRODID:-//https://historia.uc.cl///NONSGML kigkonsult.se iCalcreator 2.10.15//
METHOD:PUBLISH
BEGIN:VEVENT
UID:20260422T021521UTC-0792k7JR17@https://historia.uc.cl/
DTSTAMP:20260422T021521Z
DESCRIPTION:Defensa pública de la Tesis de Doctorado de la estudiante Sandr
 a Montoya Muñoz:\n'Formas de integración de los esclavos negros en las gob
 ernaciones de Antioquia y Popayán\, siglo XVII'.\n&nbsp\;\nVierne 18 de no
 viembre11:00 hrs.\n&nbsp\;\n https://historia.uc.cl/agenda/calendario/even
 to/281-defensa-de-doctorado-de-sandra-montoya
DTSTART:20221118T110000Z
DTEND:20221118T130000Z
LOCATION:Sala Seminario de la Facultad de Historia\, Geografía y Ciencia Po
 lítica ()
SUMMARY:Defensa de Doctorado de Sandra Montoya 
URL:https://historia.uc.cl/agenda/calendario/evento/281-defensa-de-doctorad
 o-de-sandra-montoya
END:VEVENT
END:VCALENDAR
