BEGIN:VCALENDAR
VERSION:2.0
PRODID:-//https://historia.uc.cl///NONSGML kigkonsult.se iCalcreator 2.10.15//
METHOD:PUBLISH
BEGIN:VEVENT
UID:20260422T093730UTC-3585RVrps2@https://historia.uc.cl/
DTSTAMP:20260422T093730Z
DESCRIPTION:“LE LLAMAN EL GUERRILLERO DE LA LIBERTAD'. LA CONSTRUCCIÓN HERO
 ICA DE MANUEL RODRÍGUEZ (1818- 1911)\nMiércoles 23 de noviembre de 202210:
 00 hrs.\,\nSala Seminario Facultad.\n&nbsp\;\n&nbsp\; https://historia.uc.
 cl/agenda/calendario/evento/283-defensa-de-magister-de-joaquin-gutierrez
DTSTART:20221123T100000Z
DTEND:20221123T113000Z
LOCATION:Sala Seminario de la Facultad de Historia\, Geografía y Ciencia Po
 lítica ()
SUMMARY:Defensa de Magíster de Joaquín Gutiérrez
URL:https://historia.uc.cl/agenda/calendario/evento/283-defensa-de-magister
 -de-joaquin-gutierrez
END:VEVENT
END:VCALENDAR
