BEGIN:VCALENDAR
VERSION:2.0
PRODID:-//https://historia.uc.cl///NONSGML kigkonsult.se iCalcreator 2.10.15//
METHOD:PUBLISH
BEGIN:VEVENT
UID:20260422T080416UTC-2969ZGeGmM@https://historia.uc.cl/
DTSTAMP:20260422T080416Z
DESCRIPTION:\n&nbsp\;\nViernes 25 de noviembre: \nMichelle Lacoste\n'Chile 
 y el comercio global en el Pacífico\, 1790-1855'\n&nbsp\;\nSala de Usos mú
 ltiples\, Facultad de Historia\, Geografía y Ciencia Política (2° piso)\n1
 0:00 hrs.&nbsp\; https://historia.uc.cl/agenda/calendario/evento/149-semin
 ario-interno-de-estudiantes-de-posgrado-2022
DTSTART:20221125T100000Z
DTEND:20221125T113000Z
LOCATION:Sala de Usos Múltiples  (Sala de Usos Múltiples\, Facultad de Hist
 oria\, Geografía y Ciencia Política)
SUMMARY:Seminario Interno de Estudiantes de Posgrado 2022
URL:https://historia.uc.cl/agenda/calendario/evento/149-seminario-interno-d
 e-estudiantes-de-posgrado-2022
END:VEVENT
END:VCALENDAR
