BEGIN:VCALENDAR
VERSION:2.0
PRODID:-//https://historia.uc.cl///NONSGML kigkonsult.se iCalcreator 2.10.15//
METHOD:PUBLISH
BEGIN:VEVENT
UID:20260422T050415UTC-4610cfHBuT@https://historia.uc.cl/
DTSTAMP:20260422T050415Z
DESCRIPTION:Exámenes de Candidatura de Doctorado en Historia 2022: Daniel A
 humada Benítez\n“BIENESTAR Y PENSIONES EN LA ANTIGUA SEGURIDAD SOCIAL CHIL
 ENA: EL CASO DE LA CAJA DE SEGURO OBRERO Y EL SERVICIO DE SEGURO SOCIAL (1
 925-1980)”.\nJueves 01 de diciembre11:00 hrs.Sala A7\n&nbsp\;\n https://hi
 storia.uc.cl/agenda/calendario/evento/299-examenes-de-candidatura-de-docto
 rado-en-historia-2022-daniel-ahumada-benitez
DTSTART:20221201T110000Z
DTEND:20221201T123000Z
LOCATION:Sala A7 ()
SUMMARY:Exámenes de Candidatura de Doctorado en Historia 2022:  Daniel Ahum
 ada Benítez
URL:https://historia.uc.cl/agenda/calendario/evento/299-examenes-de-candida
 tura-de-doctorado-en-historia-2022-daniel-ahumada-benitez
END:VEVENT
END:VCALENDAR
