BEGIN:VCALENDAR
VERSION:2.0
PRODID:-//https://historia.uc.cl///NONSGML kigkonsult.se iCalcreator 2.10.15//
METHOD:PUBLISH
BEGIN:VEVENT
UID:20260422T132551UTC-4576RcA4bp@https://historia.uc.cl/
DTSTAMP:20260422T132551Z
DESCRIPTION:&nbsp\;Cátedra Italo Calvino UC 2022\nTemblar es humano\, breve
  historia del miedo\n&nbsp\;\nExpone: Adriano ProsperiProfesor Emérito SNS
 &nbsp\;\nViernes 02 de diciembre11:30 hrs.Vía Zoom\nInscríbete ACÁ&nbsp\;
 \n&nbsp\;\n https://historia.uc.cl/agenda/calendario/evento/287-catedra-it
 alo-calvino-uc-2022
DTSTART:20221202T113000Z
DTEND:20221202T130000Z
LOCATION:Online ()
SUMMARY: Cátedra Italo Calvino UC 2022
URL:https://historia.uc.cl/agenda/calendario/evento/287-catedra-italo-calvi
 no-uc-2022
END:VEVENT
END:VCALENDAR
