BEGIN:VCALENDAR
VERSION:2.0
PRODID:-//https://historia.uc.cl///NONSGML kigkonsult.se iCalcreator 2.10.15//
METHOD:PUBLISH
BEGIN:VEVENT
UID:20260422T021452UTC-7281jwbX9J@https://historia.uc.cl/
DTSTAMP:20260422T021452Z
DESCRIPTION:Las conferencias bienales e internacionales de la Association o
 f Critical Heritage Studies (ACHS) son la instancia académica más grande d
 e su tipo respecto a estudios del patrimonio. En su sexta versión\, ACHS 2
 022 se realizará en Santiago de Chile en la Universidad Católica\, desde e
 l 4 hasta al 7 de diciembre de 2022.\nLa conferencia comenzará el día 4 de
  diciembre con una inauguración en el Centro de Extensión de la Universida
 d Católica.&nbsp\;Entre los días 5 y 7 de diciembre habrán 49 sesiones de 
 ponencias\, 6 mesas redondas y 1 sesión audiovisual.\n&nbsp\;\nMás informa
 ción del programa ACÁ&nbsp\;\n https://historia.uc.cl/agenda/calendario/ev
 ento/297-conferencias-bienales-e-internacionales-de-la-association-of-crit
 ical-heritage-studies-achs-2022
DTSTART:20221204T100000Z
DTEND:20221207T150000Z
LOCATION:Centro de Extensión de la Universidad Católica ()
SUMMARY:Conferencias bienales e internacionales de la Association of Critic
 al Heritage Studies (ACHS) 2022
URL:https://historia.uc.cl/agenda/calendario/evento/297-conferencias-bienal
 es-e-internacionales-de-la-association-of-critical-heritage-studies-achs-2
 022
END:VEVENT
END:VCALENDAR
