BEGIN:VCALENDAR
VERSION:2.0
PRODID:-//https://historia.uc.cl///NONSGML kigkonsult.se iCalcreator 2.10.15//
METHOD:PUBLISH
BEGIN:VEVENT
UID:20260422T021504UTC-7528jc5AMi@https://historia.uc.cl/
DTSTAMP:20260422T021504Z
DESCRIPTION:Presentación del libro 'Gabriela Mistral y los presidentes de C
 hile'\nClaudio Rolle Cruz\, director del Instituto de Historia\, y Luz Már
 quez de la Plata Cortés\, directora de la Escuela de Periodismo\, tienen e
 l agrado de invitarle a la presentación del libro 'Gabriela Mistral y los 
 presidentes de Chile'\, del historiador y académico de la Facultad de Comu
 nicaciones Matías Tagle Domínguez\, publicado por Ediciones UC.\nEl libro 
 será presentado por las profesoras Sylvia Dümer\, del Instituto de Histori
 a\,y María Inés Zaldívar\, de la Facultad de Letras.\nPara asistir\, inscr
 ibise&nbsp\;ACÁ&nbsp\;\nMartes 6 de diciembre 12:00 hrs.Auditorio de la Fa
 cultad de Comunicaciones\, ubicada en Av. Libertador Bernardo O’Higgins 34
 0\, Santiago.&nbsp\;\n&nbsp\;\n https://historia.uc.cl/agenda/calendario/e
 vento/289-presentacion-del-libro-gabriela-mistral-y-los-presidentes-de-chi
 le
DTSTART:20221206T120000Z
DTEND:20221206T133000Z
LOCATION:Auditorio de la Facultad de Comunicaciones (Av. Libertador Bernard
 o O’Higgins 340\, Santiago)
SUMMARY:Presentación del libro 'Gabriela Mistral y los presidentes de Chile
 '
URL:https://historia.uc.cl/agenda/calendario/evento/289-presentacion-del-li
 bro-gabriela-mistral-y-los-presidentes-de-chile
END:VEVENT
BEGIN:VEVENT
UID:20260422T021504UTC-7534Uk692U@https://historia.uc.cl/
DTSTAMP:20260422T021504Z
DESCRIPTION:Residencias en Historia | Adriana Petra (Conicet)\n'Viajar\, ed
 itar\, militar: entradas para estudiar la cultura comunista desde la histo
 ria intelectual'\nMartes 06 de diciembre17:00 hrs.Vía Zoom&nbsp\;\nInscrip
 ciones ACÁ&nbsp\;\n https://historia.uc.cl/agenda/calendario/evento/291-re
 sidencias-en-historia-adriana-petra
DTSTART:20221206T170000Z
DTEND:20221206T183000Z
LOCATION:Online ()
SUMMARY:Residencias en Historia | Adriana Petra 
URL:https://historia.uc.cl/agenda/calendario/evento/291-residencias-en-hist
 oria-adriana-petra
END:VEVENT
BEGIN:VEVENT
UID:20260422T021504UTC-7538foXXlX@https://historia.uc.cl/
DTSTAMP:20260422T021504Z
DESCRIPTION:Las conferencias bienales e internacionales de la Association o
 f Critical Heritage Studies (ACHS) son la instancia académica más grande d
 e su tipo respecto a estudios del patrimonio. En su sexta versión\, ACHS 2
 022 se realizará en Santiago de Chile en la Universidad Católica\, desde e
 l 4 hasta al 7 de diciembre de 2022.\nLa conferencia comenzará el día 4 de
  diciembre con una inauguración en el Centro de Extensión de la Universida
 d Católica.&nbsp\;Entre los días 5 y 7 de diciembre habrán 49 sesiones de 
 ponencias\, 6 mesas redondas y 1 sesión audiovisual.\n&nbsp\;\nMás informa
 ción del programa ACÁ&nbsp\;\n https://historia.uc.cl/agenda/calendario/ev
 ento/297-conferencias-bienales-e-internacionales-de-la-association-of-crit
 ical-heritage-studies-achs-2022
DTSTART:20221204T100000Z
DTEND:20221207T150000Z
LOCATION:Centro de Extensión de la Universidad Católica ()
SUMMARY:Conferencias bienales e internacionales de la Association of Critic
 al Heritage Studies (ACHS) 2022
URL:https://historia.uc.cl/agenda/calendario/evento/297-conferencias-bienal
 es-e-internacionales-de-la-association-of-critical-heritage-studies-achs-2
 022
END:VEVENT
BEGIN:VEVENT
UID:20260422T021504UTC-7544cV2L6D@https://historia.uc.cl/
DTSTAMP:20260422T021504Z
DESCRIPTION:Exámenes de Candidatura de Doctorado en Historia 2022: Felipe T
 rujillo Bilbao\n“REVOLUCIÓN (VERDE) ENTRE INGENIEROS HISTORIA TRASNACIONAL
 \, COMUNIDAD EPISTÉMICA Y MANEJO HÍDRICO (CHILE\, 1943-1976)”.\nMartes 06 
 de diciembre10:30 hrs.\nSala A7\n https://historia.uc.cl/agenda/calendario
 /evento/301-examenes-de-candidatura-de-doctorado-en-historia-2022-felipe-t
 rujillo-bilbao
DTSTART:20221206T103000Z
DTEND:20221206T120000Z
LOCATION:Sala A7 ()
SUMMARY:Exámenes de Candidatura de Doctorado en Historia 2022:  Felipe Truj
 illo Bilbao
URL:https://historia.uc.cl/agenda/calendario/evento/301-examenes-de-candida
 tura-de-doctorado-en-historia-2022-felipe-trujillo-bilbao
END:VEVENT
END:VCALENDAR
