BEGIN:VCALENDAR
VERSION:2.0
PRODID:-//https://historia.uc.cl///NONSGML kigkonsult.se iCalcreator 2.10.15//
METHOD:PUBLISH
BEGIN:VEVENT
UID:20260422T021505UTC-7865WuOehW@https://historia.uc.cl/
DTSTAMP:20260422T021505Z
DESCRIPTION:El Instituto de Historia invita a la charla de la profesora Eli
 zabeth Quay Hutchison titulada&nbsp\;¿Trabajadoras\, como todas las demás?
  Regulando el servicio doméstico en Chile\nElizabeth Quay Hutchison es Pro
 fesora de Historia y Vicepresidenta Asociada de Equidad e Inclusión de The
  University of New Mexico en Albuquerque\, New Mexico\, EE.UU\, y trabaja 
 sobre historia\, genero\, y trabajo en Chile y América Latina en siglo XX.
 \nEn 2021 publicó el libro&nbsp\;Workers Like All the Rest of Them: Domest
 ic Service and the Rights of Labor in Twentieth-Century Chile con Duke Uni
 versity Press\, en regimen de acceso abierto.\nEsta actividad se realizará
  el día miércoles 7 de diciembre a las 14:00 hrs. en la Sala de Usos Múlti
 ples de la Facultad de Historia\, Geografía y Ciencia Política de la Ponti
 ficia Universidad Católica\, Avenida Vicuña Mackenna 4860\, Macul.\n&nbsp\
 ;\n https://historia.uc.cl/agenda/calendario/evento/293-elizabeth-quay-hut
 chison-trabajadoras-como-todas-las-demas-regulando-el-servicio-domestico-e
 n-chile
DTSTART:20221207T140000Z
DTEND:20221207T153000Z
LOCATION:Sala de Usos Múltiples  (Sala de Usos Múltiples\, Facultad de Hist
 oria\, Geografía y Ciencia Política)
SUMMARY:Elizabeth Quay Hutchison:¿Trabajadoras\, como todas las demás? Regu
 lando el servicio doméstico en Chile
URL:https://historia.uc.cl/agenda/calendario/evento/293-elizabeth-quay-hutc
 hison-trabajadoras-como-todas-las-demas-regulando-el-servicio-domestico-en
 -chile
END:VEVENT
BEGIN:VEVENT
UID:20260422T021505UTC-7871WD10vo@https://historia.uc.cl/
DTSTAMP:20260422T021505Z
DESCRIPTION:Las conferencias bienales e internacionales de la Association o
 f Critical Heritage Studies (ACHS) son la instancia académica más grande d
 e su tipo respecto a estudios del patrimonio. En su sexta versión\, ACHS 2
 022 se realizará en Santiago de Chile en la Universidad Católica\, desde e
 l 4 hasta al 7 de diciembre de 2022.\nLa conferencia comenzará el día 4 de
  diciembre con una inauguración en el Centro de Extensión de la Universida
 d Católica.&nbsp\;Entre los días 5 y 7 de diciembre habrán 49 sesiones de 
 ponencias\, 6 mesas redondas y 1 sesión audiovisual.\n&nbsp\;\nMás informa
 ción del programa ACÁ&nbsp\;\n https://historia.uc.cl/agenda/calendario/ev
 ento/297-conferencias-bienales-e-internacionales-de-la-association-of-crit
 ical-heritage-studies-achs-2022
DTSTART:20221204T100000Z
DTEND:20221207T150000Z
LOCATION:Centro de Extensión de la Universidad Católica ()
SUMMARY:Conferencias bienales e internacionales de la Association of Critic
 al Heritage Studies (ACHS) 2022
URL:https://historia.uc.cl/agenda/calendario/evento/297-conferencias-bienal
 es-e-internacionales-de-la-association-of-critical-heritage-studies-achs-2
 022
END:VEVENT
BEGIN:VEVENT
UID:20260422T021505UTC-7875DrBfT5@https://historia.uc.cl/
DTSTAMP:20260422T021505Z
DESCRIPTION:Defensa de Doctorado de Vanessa Moraes Pacheco\nLA CONFORMACIÓN
  DE LA HISTORIOGRAFÍA CHILENA Y LA CONSTRUCCIÓN DEL ESTADO Y LA NACIÓN (18
 28-1848)\nMiércoles 07 de diciembre10:00 hrs.\nVía Zoom&nbsp\;\n https://h
 istoria.uc.cl/agenda/calendario/evento/303-defensa-de-doctorado-de-vanessa
 -moraes-pacheco
DTSTART:20221207T100000Z
DTEND:20221207T120000Z
LOCATION:Online ()
SUMMARY:Defensa de Doctorado de Vanessa Moraes Pacheco
URL:https://historia.uc.cl/agenda/calendario/evento/303-defensa-de-doctorad
 o-de-vanessa-moraes-pacheco
END:VEVENT
END:VCALENDAR
