BEGIN:VCALENDAR
VERSION:2.0
PRODID:-//https://historia.uc.cl///NONSGML kigkonsult.se iCalcreator 2.10.15//
METHOD:PUBLISH
BEGIN:VEVENT
UID:20260424T040621UTC-4915xuXAw2@https://historia.uc.cl/
DTSTAMP:20260424T040621Z
DESCRIPTION:Seminario Doctoral en Historia 2021\n06 y 07 de enero\n&nbsp\;
 \n https://historia.uc.cl/agenda/calendario/evento/123-seminario-doctoral-
 en-historia-2021
DTSTART:20220106T100000Z
DTEND:20220107T160000Z
LOCATION:ONLINE/SALA SEMINARIO ()
SUMMARY:Seminario Doctoral en Historia 2021
URL:https://historia.uc.cl/agenda/calendario/evento/123-seminario-doctoral-
 en-historia-2021
END:VEVENT
END:VCALENDAR
