BEGIN:VCALENDAR
VERSION:2.0
PRODID:-//https://historia.uc.cl///NONSGML kigkonsult.se iCalcreator 2.10.15//
METHOD:PUBLISH
BEGIN:VEVENT
UID:20260424T015500UTC-8695skZdp3@https://historia.uc.cl/
DTSTAMP:20260424T015500Z
DESCRIPTION:La&nbsp\;Semana de Orientación y Postulación UC&nbsp\;se realiz
 ará &nbsp\;entre el&nbsp\;martes 11 al jueves 13 de enero de 2022.&nbsp\;L
 a versión de este año contará por primera vez con dos formatos simultáneos
 : feria virtual y feria presencial.&nbsp\; &nbsp\;\n\n\nLa feria virtual o
 frecerá la posibilidad a cientos de estudiantes que se encuentran a lo lar
 go del país\, de acceder a una recreación virtual de los cinco campus de l
 a UC\, visitar los stands de carreras para ontener información de ponderac
 iones\, vacantes\, puntajes y todo lo necesario para enfrentar el proceso 
 de postulación.&nbsp\;\n\n\nLa feria presencial se realizará durante los d
 ías 11\, 12 y 13 de enero entre las 10:00 y las 16:00 horas en campus Casa
  Central. Permitirá a los y las estudiantes interesadas en postular a las 
 carreras de la UC\, conversar con embajadores de todos los programas de pr
 egrado\, contar con la orientación de profesionales en temas de admisión y
  financiamiento\, también hacer su postulación con la guía de estudiantes 
 debidamente capacitados.&nbsp\;\n\n\n&nbsp\; https://historia.uc.cl/agenda
 /calendario/evento/119-semana-de-orientacion-y-postulacion-uc
DTSTART:20220111T100000Z
DTEND:20220113T160000Z
LOCATION:Casa Central. Avenida libertador Bernardo OHiggins 340\, Santiago 
 (Avenida libertador Bernardo OHiggins 340\, Santiago)
SUMMARY:Semana de Orientación y Postulación UC
URL:https://historia.uc.cl/agenda/calendario/evento/119-semana-de-orientaci
 on-y-postulacion-uc
END:VEVENT
END:VCALENDAR
