BEGIN:VCALENDAR
VERSION:2.0
PRODID:-//https://historia.uc.cl///NONSGML kigkonsult.se iCalcreator 2.10.15//
METHOD:PUBLISH
BEGIN:VEVENT
UID:20260423T174606UTC-02676JoFZ5@https://historia.uc.cl/
DTSTAMP:20260423T174606Z
DESCRIPTION:En el marco del evento&nbsp\;'Agenda de Género CTCI 2020-2022: 
 avances y logros'\, que organiza el Ministerio de Ciencia\, Tecnología\, C
 onocimiento e Innovación\, se presentará el libro&nbsp\;'Históricas. Diez 
 mujeres que marcaron la Historia en Ciencia\, Tecnología\, Conocimiento e 
 Innovación en Chile'\, de&nbsp\;Verónica Undurraga Schüler y Stefan Meie
 r Valenzuela.La actividad se realizará vía Zoom el jueves 27 de enero\, a 
 partir de las 9.00 hrs.\, inscripciones AQUÍ\nPuede seguir el evento a tra
 vés de YouTube\nLa actividad\, encabezada por la subsecretaria Carolina To
 rrealba\, y expertas y líderes en el área\, tuvo como finalidad dar cuenta
  sobre las diversas iniciativas que ha impulsado la cartera para reducir l
 as brechas entre hombres y mujeres en el mundo científico\, con un enfoque
  especial en la primera Política de Igualdad de Género en CTCI. En la inst
 ancia\, además\, se lanzó oficialmente el libro “Históricas”\, documento q
 ue reconoce a mujeres que desarrollaron un trabajo fundamental en la cienc
 ia\, tecnología\, conocimiento e innovación del país\, pero que nunca tuvi
 eron un reconocimiento por su aporte.\nDurante la actividad 'Logros y desa
 fíos de la Agenda de Igualdad de Género en CTCI'\, se realizó el lanzamien
 to del libro “Históricas”\, documento que reconoce a 10 mujeres que desarr
 ollaron un trabajo fundamental en la ciencia\, tecnología\, conocimiento e
  innovación del país\, pero que nunca tuvieron un reconocimiento por su ap
 orte.\nEl libro\, que es parte de la primera Política Nacional de Igualdad
  de Género en CTCI del Ministerio de Ciencia\, Tecnología\, Conocimiento e
  Innovación\, fue escrito por los historiadores Verónica Undurraga y Stefa
 n Meier.&nbsp\;\nSobre el lanzamiento de “Históricas”\, la subsecretaria C
 arolina Torrealba\, afirmó que: “esta es una iniciativa\, que lo que hace 
 es escudriñar nuestra historia reciente\, buscando la historia de estas mu
 jeres\, sus experiencias de vida que fueron un aporte fundamental en la co
 nstrucción de la historia de nuestra ciencia y de la investigación en dist
 intas áreas\, pero que sin embargo sus historias no han sido lo suficiente
 mente contadas y no las hemos reconocido como debemos. Históricas nos ayud
 a a reconocer las historias de estas mujeres. Nos ayuda también a comprend
 er y a tener otra historia que poder contarles a nuestro hijos e hijas. Un
 a historia en la cual también existen mujeres que fueron abriendo los cami
 nos de la ciencia\, tecnología\, conocimiento e innovación”.&nbsp\;\nLa hi
 storiadora\, y una de las autoras del libro\, Verónica Undurraga\, dijo qu
 e: “lo que más valoro de la Política Nacional de Igualdad de Género en CTC
 I del ministerio\, es que ha tratado de revelar las historias de muchas mu
 jeres que han aportado sustantivamente al conocimiento y a la investigació
 n en la historia de Chile. Esto se ha plasmado en el proyecto y en el libr
 o ´históricaś que acabamos de publicar\, que es un libro que justamente r
 eleva la historia de mujeres desconocidas y a la vez profundiza las trayec
 torias de mujeres más conocidas en el escenario público de Chile. Estas mu
 jeres han sido sustanciales para el desarrollo de la ciencia y pertenecen 
 a distintas disciplinas\, desde la psicolingüística\, medicina\, astronomí
 a\, química y farmacia\, entre otras”.\nFuente: Ministerio de Ciencia\, Te
 cnología\, Conocimiento e Innovación\n&nbsp\;\n\n\n\n\n\n\n https://histor
 ia.uc.cl/agenda/calendario/evento/125-presentacion-del-libro-historicas
DTSTART;VALUE=DATE:20220127
LOCATION:Online ()
SUMMARY:Presentación del Libro 'HISTÓRICAS'
URL:https://historia.uc.cl/agenda/calendario/evento/125-presentacion-del-li
 bro-historicas
END:VEVENT
END:VCALENDAR
