BEGIN:VCALENDAR
VERSION:2.0
PRODID:-//https://historia.uc.cl///NONSGML kigkonsult.se iCalcreator 2.10.15//
METHOD:PUBLISH
BEGIN:VEVENT
UID:20260423T232053UTC-1971lnuV98@https://historia.uc.cl/
DTSTAMP:20260423T232053Z
DESCRIPTION:Estamos muy felices de recibirles en su primer semestre en nues
 tro&nbsp\;Instituto Historia UC\,&nbsp\;reconociendo todo el esfuerzo para
  su ingreso. Este semestre es especialmente desafiante\, pero estamos segu
 ros que en conjunto haremos que su experiencia sea la mejor.\nQueremos inv
 itarles para que el&nbsp\;Jueves 3 de Marzo&nbsp\;nos encontremos en nuest
 ra Facultad de Historia\, Geografía y Ciencia Política\, a fin de que poda
 mos conocernos personalmente y compartir con compañeros y compañeras y con
  distintas personas de la comunidad de nuestro Instituto\, dándoles nuestr
 a más cordial&nbsp\;bienvenida&nbsp\;a ser parte de nuestra Comunidad.\n&n
 bsp\;Quienes deseen y puedan participar deberán completar este&nbsp\;formu
 lario.&nbsp\;\n&nbsp\;\n https://historia.uc.cl/agenda/calendario/evento/1
 27-bienvenida-novata-historia-uc
DTSTART:20220303T113000Z
DTEND:20220303T150000Z
LOCATION:Facultad de Historia\, Geografía y Ciencia Política UC ()
SUMMARY:Bienvenida Novata Historia UC
URL:https://historia.uc.cl/agenda/calendario/evento/127-bienvenida-novata-h
 istoria-uc
END:VEVENT
END:VCALENDAR
