BEGIN:VCALENDAR
VERSION:2.0
PRODID:-//https://historia.uc.cl///NONSGML kigkonsult.se iCalcreator 2.10.15//
METHOD:PUBLISH
BEGIN:VEVENT
UID:20260423T011508UTC-5024Ttft6j@https://historia.uc.cl/
DTSTAMP:20260423T011508Z
DESCRIPTION:Ceremonía de graduación del Instituto de Historia de la Pontifi
 cia Universidad Católica de Chile&nbsp\;\n\n\n\n\n\n\n\nAuditorio Facultad
  de Administración y Economía\n\n\n\n\n\n\n\n\n&nbsp\;\n18:30 hrs.&nbsp\;
 \n https://historia.uc.cl/agenda/calendario/evento/169-ceremonia-de-gradua
 cion
DTSTART:20220405T183000Z
DTEND:20220405T203000Z
LOCATION:Auditorio Facultad de Administración y Economía ()
SUMMARY:Ceremonia de graduación 
URL:https://historia.uc.cl/agenda/calendario/evento/169-ceremonia-de-gradua
 cion
END:VEVENT
END:VCALENDAR
