BEGIN:VCALENDAR
VERSION:2.0
PRODID:-//https://historia.uc.cl///NONSGML kigkonsult.se iCalcreator 2.10.15//
METHOD:PUBLISH
BEGIN:VEVENT
UID:20260423T011502UTC-4042E0mu10@https://historia.uc.cl/
DTSTAMP:20260423T011502Z
DESCRIPTION:El Departamento de Historia Universal de nuestro Instituto les 
 invita al Conversatorio 'Reflexiones sobre la paz en Medio Oriente: la exp
 eriencia de Yoseph Haddad\, un árabe israelí cristiano'.&nbsp\;\nSe realiz
 ará en inglés\, con traducción simultánea.\n&nbsp\;\nLunes 11 de abril&nbs
 p\;10:00 hrs.Auditorio de la Facultad de Historia\, Geografía y Ciencia Po
 lítica UC&nbsp\;\n&nbsp\;\n https://historia.uc.cl/agenda/calendario/event
 o/173-conversatorio-reflexiones-sobre-la-paz-en-medio-oriente-la-experienc
 ia-de-yoseph-haddad-un-arabe-israeli-cristiano
DTSTART:20220411T100000Z
DTEND:20220411T120000Z
LOCATION:Auditorio Facultad de Administración y Economía ()
SUMMARY:Conversatorio 'Reflexiones sobre la paz en Medio Oriente: la experi
 encia de Yoseph Haddad\, un árabe israelí cristiano'
URL:https://historia.uc.cl/agenda/calendario/evento/173-conversatorio-refle
 xiones-sobre-la-paz-en-medio-oriente-la-experiencia-de-yoseph-haddad-un-ar
 abe-israeli-cristiano
END:VEVENT
END:VCALENDAR
